Package: MPFE Version: 1.42.0 Command: /home/biocbuild/R/R/bin/R CMD INSTALL MPFE StartedAt: 2025-02-03 20:21:41 -0000 (Mon, 03 Feb 2025) EndedAt: 2025-02-03 20:22:03 -0000 (Mon, 03 Feb 2025) EllapsedTime: 21.8 seconds RetCode: 0 Status: OK