Package: MPRAnalyze Version: 1.24.0 Command: /Library/Frameworks/R.framework/Resources/bin/R CMD build --keep-empty-dirs --no-resave-data MPRAnalyze StartedAt: 2025-02-04 04:05:57 -0500 (Tue, 04 Feb 2025) EndedAt: 2025-02-04 04:07:19 -0500 (Tue, 04 Feb 2025) EllapsedTime: 81.7 seconds RetCode: 0 Status: OK PackageFile: MPRAnalyze_1.24.0.tar.gz PackageFileSize: 402.2 KiB