Package: MPRAnalyze Version: 1.24.0 Command: /Library/Frameworks/R.framework/Resources/bin/R CMD INSTALL MPRAnalyze StartedAt: 2025-02-10 16:16:05 -0500 (Mon, 10 Feb 2025) EndedAt: 2025-02-10 16:16:33 -0500 (Mon, 10 Feb 2025) EllapsedTime: 27.9 seconds RetCode: 0 Status: OK