Package: MPRAnalyze Version: 1.24.0 Command: rm -rf MPRAnalyze.buildbin-libdir && mkdir MPRAnalyze.buildbin-libdir && /Users/biocbuild/BBS/utils/build-universal.sh MPRAnalyze_1.24.0.tar.gz /Library/Frameworks/R.framework/Resources/bin/R MPRAnalyze.buildbin-libdir StartedAt: 2025-02-11 13:52:11 -0500 (Tue, 11 Feb 2025) EndedAt: 2025-02-11 13:53:29 -0500 (Tue, 11 Feb 2025) EllapsedTime: 78.0 seconds RetCode: 0 Status: OK PackageFile: MPRAnalyze_1.24.0.tgz PackageFileSize: 637.2 KiB