Package: MPRAnalyze Version: 1.24.0 Command: /Library/Frameworks/R.framework/Resources/bin/R CMD INSTALL MPRAnalyze StartedAt: 2025-02-10 15:35:15 -0500 (Mon, 10 Feb 2025) EndedAt: 2025-02-10 15:36:04 -0500 (Mon, 10 Feb 2025) EllapsedTime: 49.4 seconds RetCode: 0 Status: OK