Package: MPRAnalyze Version: 1.24.0 Command: /home/biocbuild/bbs-3.20-bioc/R/bin/R CMD check --install=check:MPRAnalyze.install-out.txt --library=/home/biocbuild/bbs-3.20-bioc/R/site-library --timings MPRAnalyze_1.24.0.tar.gz StartedAt: 2025-02-04 00:24:03 -0500 (Tue, 04 Feb 2025) EndedAt: 2025-02-04 00:26:51 -0500 (Tue, 04 Feb 2025) EllapsedTime: 168.2 seconds RetCode: 0 Status: OK CheckDir: MPRAnalyze.Rcheck Warnings: 0