Package: MPRAnalyze Version: 1.24.0 Command: rm -rf MPRAnalyze.buildbin-libdir && mkdir MPRAnalyze.buildbin-libdir && F:\biocbuild\bbs-3.20-bioc\R\bin\R.exe CMD INSTALL --build --library=MPRAnalyze.buildbin-libdir MPRAnalyze_1.24.0.tar.gz StartedAt: 2025-02-04 08:59:34 -0500 (Tue, 04 Feb 2025) EndedAt: 2025-02-04 09:00:19 -0500 (Tue, 04 Feb 2025) EllapsedTime: 44.8 seconds RetCode: 0 Status: OK PackageFile: MPRAnalyze_1.24.0.zip PackageFileSize: 569.1 KiB