Package: MPRAnalyze Version: 1.24.0 Command: chmod a+r MPRAnalyze -R && F:\biocbuild\bbs-3.20-bioc\R\bin\R.exe CMD build --keep-empty-dirs --no-resave-data MPRAnalyze StartedAt: 2025-02-10 20:28:16 -0500 (Mon, 10 Feb 2025) EndedAt: 2025-02-10 20:29:49 -0500 (Mon, 10 Feb 2025) EllapsedTime: 92.9 seconds RetCode: 0 Status: OK PackageFile: MPRAnalyze_1.24.0.tar.gz PackageFileSize: 336.1 KiB