Package: MPRAnalyze Version: 1.24.0 Command: /home/biocbuild/R/R/bin/R CMD build --keep-empty-dirs --no-resave-data MPRAnalyze StartedAt: 2025-02-11 00:58:16 -0000 (Tue, 11 Feb 2025) EndedAt: 2025-02-11 00:59:54 -0000 (Tue, 11 Feb 2025) EllapsedTime: 98.0 seconds RetCode: 0 Status: OK PackageFile: MPRAnalyze_1.24.0.tar.gz PackageFileSize: 416.9 KiB