Package: MSA2dist Version: 1.10.1 Command: /Library/Frameworks/R.framework/Resources/bin/R CMD build --keep-empty-dirs --no-resave-data MSA2dist StartedAt: 2025-02-04 04:06:16 -0500 (Tue, 04 Feb 2025) EndedAt: 2025-02-04 04:07:45 -0500 (Tue, 04 Feb 2025) EllapsedTime: 89.5 seconds RetCode: 0 Status: OK PackageFile: MSA2dist_1.10.1.tar.gz PackageFileSize: 878 KiB