Package: MSA2dist Version: 1.10.1 Command: /Library/Frameworks/R.framework/Resources/bin/R CMD check --install=check:MSA2dist.install-out.txt --library=/Library/Frameworks/R.framework/Resources/library --no-vignettes --timings MSA2dist_1.10.1.tar.gz StartedAt: 2025-02-05 02:56:19 -0500 (Wed, 05 Feb 2025) EndedAt: 2025-02-05 03:00:21 -0500 (Wed, 05 Feb 2025) EllapsedTime: 242.1 seconds RetCode: 0 Status: OK CheckDir: MSA2dist.Rcheck Warnings: 0