Package: MSA2dist Version: 1.10.1 Command: /Library/Frameworks/R.framework/Resources/bin/R CMD INSTALL MSA2dist StartedAt: 2025-02-03 16:13:43 -0500 (Mon, 03 Feb 2025) EndedAt: 2025-02-03 16:14:48 -0500 (Mon, 03 Feb 2025) EllapsedTime: 64.8 seconds RetCode: 0 Status: OK