Package: MSA2dist Version: 1.10.1 Command: /home/biocbuild/bbs-3.20-bioc/R/bin/R CMD check --install=check:MSA2dist.install-out.txt --library=/home/biocbuild/bbs-3.20-bioc/R/site-library --timings MSA2dist_1.10.1.tar.gz StartedAt: 2025-02-04 00:24:54 -0500 (Tue, 04 Feb 2025) EndedAt: 2025-02-04 00:28:46 -0500 (Tue, 04 Feb 2025) EllapsedTime: 232.3 seconds RetCode: 0 Status: OK CheckDir: MSA2dist.Rcheck Warnings: 0