Package: MSA2dist Version: 1.10.1 Command: /home/biocbuild/bbs-3.20-bioc/R/bin/R CMD INSTALL MSA2dist StartedAt: 2025-02-10 15:32:45 -0500 (Mon, 10 Feb 2025) EndedAt: 2025-02-10 15:33:49 -0500 (Mon, 10 Feb 2025) EllapsedTime: 64.3 seconds RetCode: 0 Status: OK