Package: MSA2dist Version: 1.10.1 Command: /home/biocbuild/R/R/bin/R CMD build --keep-empty-dirs --no-resave-data MSA2dist StartedAt: 2025-01-31 01:08:37 -0000 (Fri, 31 Jan 2025) EndedAt: 2025-01-31 01:10:49 -0000 (Fri, 31 Jan 2025) EllapsedTime: 132.1 seconds RetCode: 0 Status: OK PackageFile: MSA2dist_1.10.1.tar.gz PackageFileSize: 805 KiB