Package: MSPrep Version: 1.16.0 Command: /Library/Frameworks/R.framework/Resources/bin/R CMD build --keep-empty-dirs --no-resave-data MSPrep StartedAt: 2025-02-04 04:12:23 -0500 (Tue, 04 Feb 2025) EndedAt: 2025-02-04 04:15:18 -0500 (Tue, 04 Feb 2025) EllapsedTime: 175.1 seconds RetCode: 0 Status: OK PackageFile: MSPrep_1.16.0.tar.gz PackageFileSize: 1.573 MiB