Package: MSPrep Version: 1.16.0 Command: /Library/Frameworks/R.framework/Resources/bin/R CMD check --install=check:MSPrep.install-out.txt --library=/Library/Frameworks/R.framework/Resources/library --no-vignettes --timings MSPrep_1.16.0.tar.gz StartedAt: 2025-02-05 03:04:27 -0500 (Wed, 05 Feb 2025) EndedAt: 2025-02-05 03:13:18 -0500 (Wed, 05 Feb 2025) EllapsedTime: 530.8 seconds RetCode: 1 Status: ERROR CheckDir: MSPrep.Rcheck Warnings: NA