Package: MSPrep Version: 1.16.0 Command: /Library/Frameworks/R.framework/Resources/bin/R CMD INSTALL MSPrep StartedAt: 2025-02-03 16:41:14 -0500 (Mon, 03 Feb 2025) EndedAt: 2025-02-03 16:42:23 -0500 (Mon, 03 Feb 2025) EllapsedTime: 68.5 seconds RetCode: 0 Status: OK