Package: MSPrep Version: 1.16.0 Command: /home/biocbuild/bbs-3.20-bioc/R/bin/R CMD INSTALL MSPrep StartedAt: 2025-02-03 16:04:29 -0500 (Mon, 03 Feb 2025) EndedAt: 2025-02-03 16:05:03 -0500 (Mon, 03 Feb 2025) EllapsedTime: 34.0 seconds RetCode: 0 Status: OK