Package: MSPrep Version: 1.16.0 Command: rm -rf MSPrep.buildbin-libdir && mkdir MSPrep.buildbin-libdir && F:\biocbuild\bbs-3.20-bioc\R\bin\R.exe CMD INSTALL --build --library=MSPrep.buildbin-libdir MSPrep_1.16.0.tar.gz StartedAt: 2025-02-04 09:00:27 -0500 (Tue, 04 Feb 2025) EndedAt: 2025-02-04 09:01:19 -0500 (Tue, 04 Feb 2025) EllapsedTime: 52.0 seconds RetCode: 0 Status: OK PackageFile: MSPrep_1.16.0.zip PackageFileSize: 1.639 MiB