Package: MSPrep Version: 1.16.0 Command: F:\biocbuild\bbs-3.20-bioc\R\bin\R.exe CMD INSTALL MSPrep StartedAt: 2025-02-03 16:21:09 -0500 (Mon, 03 Feb 2025) EndedAt: 2025-02-03 16:21:53 -0500 (Mon, 03 Feb 2025) EllapsedTime: 43.8 seconds RetCode: 0 Status: OK