Package: MSPrep Version: 1.16.0 Command: /home/biocbuild/R/R/bin/R CMD check --install=check:MSPrep.install-out.txt --library=/home/biocbuild/R/R/site-library --no-vignettes --timings MSPrep_1.16.0.tar.gz StartedAt: 2025-02-04 09:07:23 -0000 (Tue, 04 Feb 2025) EndedAt: 2025-02-04 09:16:31 -0000 (Tue, 04 Feb 2025) EllapsedTime: 547.9 seconds RetCode: 1 Status: ERROR CheckDir: MSPrep.Rcheck Warnings: NA