Package: MSPrep Version: 1.16.0 Command: /home/biocbuild/R/R/bin/R CMD INSTALL MSPrep StartedAt: 2025-02-03 21:18:56 -0000 (Mon, 03 Feb 2025) EndedAt: 2025-02-03 21:19:36 -0000 (Mon, 03 Feb 2025) EllapsedTime: 40.5 seconds RetCode: 0 Status: OK