Package: MSnID Version: 1.40.0 Command: /Library/Frameworks/R.framework/Resources/bin/R CMD check --install=check:MSnID.install-out.txt --library=/Library/Frameworks/R.framework/Resources/library --no-vignettes --timings MSnID_1.40.0.tar.gz StartedAt: 2025-02-12 02:28:27 -0500 (Wed, 12 Feb 2025) EndedAt: 2025-02-12 02:36:15 -0500 (Wed, 12 Feb 2025) EllapsedTime: 468.4 seconds RetCode: 1 Status: ERROR CheckDir: MSnID.Rcheck Warnings: NA