Package: MSnID Version: 1.40.0 Command: /Library/Frameworks/R.framework/Resources/bin/R CMD INSTALL MSnID StartedAt: 2025-02-03 17:03:35 -0500 (Mon, 03 Feb 2025) EndedAt: 2025-02-03 17:04:26 -0500 (Mon, 03 Feb 2025) EllapsedTime: 51.8 seconds RetCode: 0 Status: OK