Package: MSnID Version: 1.40.0 Command: rm -rf MSnID.buildbin-libdir && mkdir MSnID.buildbin-libdir && /Users/biocbuild/BBS/utils/build-universal.sh MSnID_1.40.0.tar.gz /Library/Frameworks/R.framework/Resources/bin/R MSnID.buildbin-libdir StartedAt: 2024-11-20 04:38:34 -0500 (Wed, 20 Nov 2024) EndedAt: 2024-11-20 04:39:42 -0500 (Wed, 20 Nov 2024) EllapsedTime: 67.1 seconds RetCode: 0 Status: OK PackageFile: MSnID_1.40.0.tgz PackageFileSize: 4.119 MiB