Package: MSnID Version: 1.40.0 Command: /Library/Frameworks/R.framework/Resources/bin/R CMD build --keep-empty-dirs --no-resave-data MSnID StartedAt: 2025-02-10 20:40:41 -0500 (Mon, 10 Feb 2025) EndedAt: 2025-02-10 20:46:10 -0500 (Mon, 10 Feb 2025) EllapsedTime: 328.8 seconds RetCode: 0 Status: OK PackageFile: MSnID_1.40.0.tar.gz PackageFileSize: 3.003 MiB