Package: MSnID Version: 1.40.0 Command: /Library/Frameworks/R.framework/Resources/bin/R CMD INSTALL MSnID StartedAt: 2025-02-03 16:18:52 -0500 (Mon, 03 Feb 2025) EndedAt: 2025-02-03 16:20:26 -0500 (Mon, 03 Feb 2025) EllapsedTime: 94.4 seconds RetCode: 0 Status: OK