Package: MSstats Version: 4.14.1 Command: /Library/Frameworks/R.framework/Resources/bin/R CMD build --keep-empty-dirs --no-resave-data MSstats StartedAt: 2025-02-04 04:15:18 -0500 (Tue, 04 Feb 2025) EndedAt: 2025-02-04 04:16:37 -0500 (Tue, 04 Feb 2025) EllapsedTime: 78.9 seconds RetCode: 0 Status: OK PackageFile: MSstats_4.14.1.tar.gz PackageFileSize: 468.2 KiB