Package: MSstats Version: 4.14.1 Command: /Library/Frameworks/R.framework/Resources/bin/R CMD check --install=check:MSstats.install-out.txt --library=/Library/Frameworks/R.framework/Resources/library --no-vignettes --timings MSstats_4.14.1.tar.gz StartedAt: 2025-02-05 03:11:07 -0500 (Wed, 05 Feb 2025) EndedAt: 2025-02-05 03:13:24 -0500 (Wed, 05 Feb 2025) EllapsedTime: 137.4 seconds RetCode: 0 Status: WARNINGS CheckDir: MSstats.Rcheck Warnings: 2