Package: MSstats Version: 4.14.0 Command: /home/biocbuild/R/R/bin/R CMD INSTALL MSstats StartedAt: 2024-11-19 21:12:38 -0000 (Tue, 19 Nov 2024) EndedAt: 2024-11-19 21:13:54 -0000 (Tue, 19 Nov 2024) EllapsedTime: 76.5 seconds RetCode: 0 Status: OK