Package: MSstats Version: 4.14.1 Command: /Library/Frameworks/R.framework/Resources/bin/R CMD build --keep-empty-dirs --no-resave-data MSstats StartedAt: 2025-01-30 21:09:04 -0500 (Thu, 30 Jan 2025) EndedAt: 2025-01-30 21:14:21 -0500 (Thu, 30 Jan 2025) EllapsedTime: 316.7 seconds RetCode: 0 Status: OK PackageFile: MSstats_4.14.1.tar.gz PackageFileSize: 468.5 KiB