Package: MSstats Version: 4.14.1 Command: /home/biocbuild/bbs-3.20-bioc/R/bin/R CMD check --install=check:MSstats.install-out.txt --library=/home/biocbuild/bbs-3.20-bioc/R/site-library --timings MSstats_4.14.1.tar.gz StartedAt: 2025-02-04 00:29:27 -0500 (Tue, 04 Feb 2025) EndedAt: 2025-02-04 00:31:33 -0500 (Tue, 04 Feb 2025) EllapsedTime: 126.1 seconds RetCode: 0 Status: WARNINGS CheckDir: MSstats.Rcheck Warnings: 1