Package: MSstats Version: 4.14.1 Command: rm -rf MSstats.buildbin-libdir && mkdir MSstats.buildbin-libdir && F:\biocbuild\bbs-3.20-bioc\R\bin\R.exe CMD INSTALL --build --library=MSstats.buildbin-libdir MSstats_4.14.1.tar.gz StartedAt: 2025-01-31 09:07:27 -0500 (Fri, 31 Jan 2025) EndedAt: 2025-01-31 09:08:55 -0500 (Fri, 31 Jan 2025) EllapsedTime: 88.3 seconds RetCode: 0 Status: OK PackageFile: MSstats_4.14.1.zip PackageFileSize: 1.1 MiB