Package: MSstats Version: 4.14.1 Command: chmod a+r MSstats -R && F:\biocbuild\bbs-3.20-bioc\R\bin\R.exe CMD build --keep-empty-dirs --no-resave-data MSstats StartedAt: 2025-01-30 20:23:29 -0500 (Thu, 30 Jan 2025) EndedAt: 2025-01-30 20:25:35 -0500 (Thu, 30 Jan 2025) EllapsedTime: 126.1 seconds RetCode: 0 Status: OK PackageFile: MSstats_4.14.1.tar.gz PackageFileSize: 270.1 KiB