Package: MSstats Version: 4.14.1 Command: F:\biocbuild\bbs-3.20-bioc\R\bin\R.exe CMD INSTALL MSstats StartedAt: 2025-01-30 16:28:00 -0500 (Thu, 30 Jan 2025) EndedAt: 2025-01-30 16:29:30 -0500 (Thu, 30 Jan 2025) EllapsedTime: 90.1 seconds RetCode: 0 Status: OK