Package: MSstats Version: 4.14.1 Command: /home/biocbuild/R/R/bin/R CMD build --keep-empty-dirs --no-resave-data MSstats StartedAt: 2025-02-04 01:14:49 -0000 (Tue, 04 Feb 2025) EndedAt: 2025-02-04 01:16:22 -0000 (Tue, 04 Feb 2025) EllapsedTime: 93.0 seconds RetCode: 0 Status: OK PackageFile: MSstats_4.14.1.tar.gz PackageFileSize: 302.3 KiB