Package: MSstats Version: 4.14.1 Command: /home/biocbuild/R/R/bin/R CMD INSTALL MSstats StartedAt: 2025-02-03 21:05:42 -0000 (Mon, 03 Feb 2025) EndedAt: 2025-02-03 21:06:44 -0000 (Mon, 03 Feb 2025) EllapsedTime: 62.4 seconds RetCode: 0 Status: OK