Package: MSstatsBig Version: 1.4.0 Command: /Library/Frameworks/R.framework/Resources/bin/R CMD INSTALL MSstatsBig StartedAt: 2025-01-30 17:17:35 -0500 (Thu, 30 Jan 2025) EndedAt: 2025-01-30 17:17:46 -0500 (Thu, 30 Jan 2025) EllapsedTime: 11.0 seconds RetCode: 0 Status: OK