Package: MSstatsBig Version: 1.4.0 Command: /Library/Frameworks/R.framework/Resources/bin/R CMD build --keep-empty-dirs --no-resave-data MSstatsBig StartedAt: 2025-02-03 20:40:57 -0500 (Mon, 03 Feb 2025) EndedAt: 2025-02-03 20:41:39 -0500 (Mon, 03 Feb 2025) EllapsedTime: 42.5 seconds RetCode: 0 Status: OK PackageFile: MSstatsBig_1.4.0.tar.gz PackageFileSize: 70.23 KiB