Package: MSstatsBig Version: 1.4.0 Command: /Library/Frameworks/R.framework/Resources/bin/R CMD INSTALL MSstatsBig StartedAt: 2025-02-03 16:20:27 -0500 (Mon, 03 Feb 2025) EndedAt: 2025-02-03 16:20:49 -0500 (Mon, 03 Feb 2025) EllapsedTime: 22.1 seconds RetCode: 0 Status: OK