Package: MSstatsBig Version: 1.4.0 Command: /home/biocbuild/bbs-3.20-bioc/R/bin/R CMD INSTALL MSstatsBig StartedAt: 2025-02-03 15:52:00 -0500 (Mon, 03 Feb 2025) EndedAt: 2025-02-03 15:52:10 -0500 (Mon, 03 Feb 2025) EllapsedTime: 9.8 seconds RetCode: 0 Status: OK