Package: MSstatsBig Version: 1.4.0 Command: chmod a+r MSstatsBig -R && F:\biocbuild\bbs-3.20-bioc\R\bin\R.exe CMD build --keep-empty-dirs --no-resave-data MSstatsBig StartedAt: 2025-02-03 20:38:01 -0500 (Mon, 03 Feb 2025) EndedAt: 2025-02-03 20:38:50 -0500 (Mon, 03 Feb 2025) EllapsedTime: 49.4 seconds RetCode: 0 Status: OK PackageFile: MSstatsBig_1.4.0.tar.gz PackageFileSize: 70.31 KiB