Package: MSstatsBig Version: 1.4.0 Command: /home/biocbuild/R/R/bin/R CMD INSTALL MSstatsBig StartedAt: 2025-01-30 20:51:37 -0000 (Thu, 30 Jan 2025) EndedAt: 2025-01-30 20:51:49 -0000 (Thu, 30 Jan 2025) EllapsedTime: 12.3 seconds RetCode: 0 Status: OK