Package: MSstatsConvert Version: 1.16.1 Command: rm -rf MSstatsConvert.buildbin-libdir && mkdir MSstatsConvert.buildbin-libdir && /Users/biocbuild/BBS/utils/build-universal.sh MSstatsConvert_1.16.1.tar.gz /Library/Frameworks/R.framework/Resources/bin/R MSstatsConvert.buildbin-libdir StartedAt: 2025-02-05 16:50:46 -0500 (Wed, 05 Feb 2025) EndedAt: 2025-02-05 16:50:54 -0500 (Wed, 05 Feb 2025) EllapsedTime: 7.7 seconds RetCode: 0 Status: OK PackageFile: MSstatsConvert_1.16.1.tgz PackageFileSize: 2.1 MiB