Package: MSstatsConvert Version: 1.16.1 Command: /Library/Frameworks/R.framework/Resources/bin/R CMD build --keep-empty-dirs --no-resave-data MSstatsConvert StartedAt: 2025-02-04 04:15:33 -0500 (Tue, 04 Feb 2025) EndedAt: 2025-02-04 04:15:45 -0500 (Tue, 04 Feb 2025) EllapsedTime: 12.5 seconds RetCode: 0 Status: OK PackageFile: MSstatsConvert_1.16.1.tar.gz PackageFileSize: 1.803 MiB