Package: MSstatsConvert Version: 1.16.1 Command: /home/biocbuild/R/R/bin/R CMD INSTALL MSstatsConvert StartedAt: 2025-02-03 20:25:56 -0000 (Mon, 03 Feb 2025) EndedAt: 2025-02-03 20:26:04 -0000 (Mon, 03 Feb 2025) EllapsedTime: 8.6 seconds RetCode: 0 Status: OK