Package: MSstatsLOBD Version: 1.14.0 Command: rm -rf MSstatsLOBD.buildbin-libdir && mkdir MSstatsLOBD.buildbin-libdir && /Users/biocbuild/BBS/utils/build-universal.sh MSstatsLOBD_1.14.0.tar.gz /Library/Frameworks/R.framework/Resources/bin/R MSstatsLOBD.buildbin-libdir StartedAt: 2025-02-05 16:50:56 -0500 (Wed, 05 Feb 2025) EndedAt: 2025-02-05 16:51:02 -0500 (Wed, 05 Feb 2025) EllapsedTime: 6.6 seconds RetCode: 0 Status: OK PackageFile: MSstatsLOBD_1.14.0.tgz PackageFileSize: 388.9 KiB