Package: MSstatsLOBD Version: 1.14.0 Command: /Library/Frameworks/R.framework/Resources/bin/R CMD check --install=check:MSstatsLOBD.install-out.txt --library=/Library/Frameworks/R.framework/Resources/library --no-vignettes --timings MSstatsLOBD_1.14.0.tar.gz StartedAt: 2025-02-05 03:13:46 -0500 (Wed, 05 Feb 2025) EndedAt: 2025-02-05 03:14:27 -0500 (Wed, 05 Feb 2025) EllapsedTime: 41.3 seconds RetCode: 0 Status: OK CheckDir: MSstatsLOBD.Rcheck Warnings: 0