Package: MSstatsLOBD Version: 1.14.0 Command: /home/biocbuild/bbs-3.20-bioc/R/bin/R CMD check --install=check:MSstatsLOBD.install-out.txt --library=/home/biocbuild/bbs-3.20-bioc/R/site-library --timings MSstatsLOBD_1.14.0.tar.gz StartedAt: 2025-02-04 00:30:59 -0500 (Tue, 04 Feb 2025) EndedAt: 2025-02-04 00:31:43 -0500 (Tue, 04 Feb 2025) EllapsedTime: 44.0 seconds RetCode: 0 Status: OK CheckDir: MSstatsLOBD.Rcheck Warnings: 0